{"text_format":"1","workbook":"xlsx","n_sheets":2,"sheets":["Kumulativní rozpočet projektu","List2"],"not_rendered":{"charts":0,"images":2,"macros":1,"external_links":0,"defined_names":0,"comments":1,"pivot_tables":0},"unopened":[],"bounds":{"document_bytes":16777216,"sheet_cells":100000,"rows_first":2000,"rows_last":500,"rows_between":2000,"halvings":0,"cell_chars":16384,"cell_head_chars":4096},"cells_cut":0,"cells_raw":0,"read":"whole","date_system":"1900"}

{"sheet":"Kumulativní rozpočet projektu","index":0,"n_rows":55,"n_cols":11,"rows_kept":55,"cut":false,"hidden":false,"merged":[[54,0,54,1],[50,4,50,10],[39,4,39,5],[53,0,53,1],[48,4,48,5],[46,1,46,2],[46,8,46,10],[43,1,43,2],[43,4,43,5],[43,8,43,10],[44,1,44,2],[39,1,39,2],[39,8,39,10],[40,1,40,2],[40,4,40,5],[40,8,40,10],[39,0,47,0],[51,4,54,10],[41,1,41,2],[41,4,41,5],[42,4,42,5],[42,8,42,10],[48,8,48,10],[46,4,46,5],[28,1,28,2],[28,4,28,5],[31,4,31,5],[31,1,31,2],[32,1,32,2],[31,8,31,10],[33,4,33,5],[33,1,33,2],[33,8,33,10],[29,8,29,10],[30,8,30,10],[32,8,32,10],[29,1,29,2],[29,4,29,5],[30,4,30,5],[32,4,32,5],[30,1,30,2],[34,8,34,10],[45,1,45,2],[45,4,45,5],[45,8,45,10],[35,8,35,10],[42,1,42,2],[34,4,34,5],[36,1,36,2],[36,4,36,5],[37,1,37,2],[37,4,37,5],[35,1,35,2],[35,4,35,5],[34,1,34,2],[44,4,44,5],[44,8,44,10],[41,8,41,10],[38,1,38,2],[16,3,16,7],[27,8,27,10],[22,8,22,9],[38,8,38,10],[36,8,36,10],[0,0,0,10],[2,1,2,3],[2,6,2,10],[3,1,3,3],[9,3,9,6],[17,3,17,6],[7,3,8,7],[7,8,8,9],[7,10,8,10],[10,3,10,7],[11,3,11,7],[12,3,12,7],[13,3,13,7],[6,6,6,10],[3,6,3,10],[4,6,5,10],[14,3,14,7],[15,3,15,7],[24,8,25,10],[24,7,25,7],[37,8,37,10],[28,8,28,10],[38,4,38,5],[26,8,26,10],[47,4,47,5],[47,8,47,10],[6,1,6,2],[19,0,21,1],[19,3,19,7],[21,3,21,7],[20,3,20,6],[18,3,18,7],[24,0,25,1],[24,2,25,2],[24,3,25,3],[24,4,25,5],[24,6,25,6],[26,0,38,0],[26,1,26,2],[26,4,26,5],[27,1,27,2],[27,4,27,5]]}
["KUMULATIVNÍ ROZPOČET PROJEKTU"]
[]
["Název žadatele","Město Česká Lípa",null,null,null,"Instrukce:","Lze editovat pouze zelená pole, vybírat hodnoty z rozevíracích seznamů a měnit hodnotu zaškrt. polí."]
["Název projektu",null,null,null,null,null,"Důležité informace jsou označeny červeným trojúhelníkem v pravém horním rohu buněk."]
[null,null,null,null,null,null,"V případě existence veřejné podpory u posuzovaného projektu se způsobilost výdajů na projektovou přípravu řídí kapitolou B.2.8 Pravidel pro žadatele a příjemce."]
["Prioritní osa","PO5"]
["Specifický cíl","5.1a - Komplexní řešení energetické náročnosti budovy"]
[{"$f":"IF(B7=\"nezvoleno\",\"\",\"Vyberte prováděná opatření (aktivity):\")","v":"Vyberte prováděná opatření (aktivity):"},null,null,"Stanovení maximálních způsobilých výdajů",null,null,null,null,"rozsah opatření",null,"maximální způsobilé výdaje na opatření (bez DPH)"]
[]
[null,null,null,"instalovaný tepelný výkon zdroje (dle projektu)",null,null,null,1,0,"[kWt]",{"$f":"IF($B$7=\"5.2 - Budování veřejných budov v pasivním energetickém standardu\",0,IF($B$7=\"5.1a - Komplexní řešení energetické náročnosti budovy\",IF($A$9=FALSE,IF($A$10=TRUE,IF($A$14=TRUE,IF($H$10=1,I10*9400,IF($H$10=2,I10*8300,IF($H$10=3,I10*30000,IF($H$10=4,I10*45900,IF($H$10=5,I10*45900,IF($H$10=6,I10*20600,IF($H$10=9,0,I10*34300))))))),0),0),IF($A$10=TRUE,IF($H$10=1,I10*9400,IF($H$10=2,I10*8300,IF($H$10=3,I10*30000,IF($H$10=4,I10*45900,IF($H$10=5,I10*45900,IF($H$10=6,I10*20600,IF($H$10=9,0,I10*34300))))))),0)),IF($A$10=TRUE,IF($H$10=1,I10*9400,IF($H$10=2,I10*8300,IF($H$10=3,I10*30000,IF($H$10=4,I10*45900,IF($H$10=5,I10*45900,IF($H$10=6,I10*20600,IF($H$10=9,0,I10*34300))))))),0)))","v":0}]
[null,null,null,"nově budovaná otopná soustava",null,null,null,null,null,null,{"$f":"IF($B$7=\"5.1a - Komplexní řešení energetické náročnosti budovy\", IF($A$9=FALSE,0,IF($C$10=FALSE,0,IF($H$10=1,$I$10*5000,IF($H$10=2,$I$10*5000,$I$10*10000)))),IF($B$7=\"5.1b - Jednotlivá opatření snižující energetickou náročnost budovy\",IF($C$10=FALSE,0,IF($H$10=1,$I$10*5000,IF($H$10=2,$I$10*5000,$I$10*10000))),0))","v":0}]
[null,null,null,"výměra zateplovaných obvodových stěn",null,null,null,null,0,"[m2]",{"$f":"IF($A$9=TRUE, $I$12*2300,0)","v":0}]
[null,null,null,"výměra zateplovaných plochých a šikmých střešních konstrukcí",null,null,null,null,0,"[m2]",{"$f":"IF($A$9=TRUE, $I$13*2200,0)","v":0}]
[null,null,null,"výměra zateplovaných konstrukcí k nevytápěným prostorům (půdám, suterénům, ostatním místnostem)",null,null,null,null,0,"[m2]",{"$f":"IF($A$9=TRUE, $I$14*1000,0)","v":0}]
[null,null,null,"výměra zateplovaných podlah na zemině",null,null,null,null,0,"[m2]",{"$f":"IF($A$9=TRUE, $I$15*2500,0)","v":0}]
[null,null,null,"výměra vyměňovaných výplní otvorů",null,null,null,null,0,"[m2]",{"$f":"IF($A$9=TRUE, IF($C$9=TRUE, $I$16*10000,$I$16*6000),0)","v":0}]
[null,null,null,"úspora energie dosažená realizací všech dalších opatření navržených v energetickém posudku",null,null,null,null,null,"[GJ.rok-1]",{"$f":"IF($A$14=TRUE, I17*5000,0)","v":0}]
[null,null,null,"instalovaný tepelný výkon termického solárního systému",null,null,null,1,0,"[kWt]",{"$f":"IF($B$7=\"5.1a - Komplexní řešení energetické náročnosti budovy\", IF($A$9=FALSE,0,IF($A$12=TRUE, IF($H$18=1,$I$18*26500,$I$18*48400),0)),IF($B$7=\"5.1b - Jednotlivá opatření snižující energetickou náročnost budovy\",IF($A$12=TRUE, IF($H$18=1,$I$18*26500,$I$18*48400),0),0))","v":0}]
[null,null,null,"instalovaný elektrický výkon zdroje",null,null,null,null,0,"[kWe]",{"$f":"IF($B$7=\"5.1a - Komplexní řešení energetické náročnosti budovy\", IF($A$9=FALSE,0,IF($A$13=TRUE, I19*170000,0)),IF($B$7=\"5.1b - Jednotlivá opatření snižující energetickou náročnost budovy\",IF($A$13=TRUE, I19*170000,0),0))","v":0}]
[{"$f":"IF($B$7=\"5.2 - Budování veřejných budov v pasivním energetickém standardu\",\"* - v případě SC ´5.2´  je nutno zatrhnout  opatření ´Výstavba veřejných budov v pasivním energetickém standardu´, jinak se nevypočtou způsobilé výdaje\", IF($B$7=\"5.1a - Komplexní řešení energetické náročnosti budovy\",\"* - v případě SC ´5.1a´  je nutno zatrhnout  opatření ´Zateplení´, jinak se nevypočtou způsobilé výdaje. Výjimkou je kombinace instalace fotovoltaického systému a výměny zdroje, tam není třeba ´Zateplení´ zatrhávat\",\"\"))","v":"* - v případě SC ´5.1a´  je nutno zatrhnout  opatření ´Zateplení´, jinak se nevypočtou způsobilé výdaje. Výjimkou je kombinace instalace fotovoltaického systému a výměny zdroje, tam není třeba ´Zateplení´ zatrhávat"},null,null,"výkon vzduchotechnické jednotky",null,null,null,null,0,"[m3.h-1]",{"$f":"IF($B$7=\"5.1b - Jednotlivá opatření snižující energetickou náročnost budovy\",IF($A$11=TRUE, IF($C$11=TRUE,$I$20*400,$I$20*150),0), IF($B$7=\"5.2 - Budování veřejných budov v pasivním energetickém standardu\", IF($A$10=FALSE,0,IF($A$11=TRUE, IF($C$11=TRUE,$I$20*400,$I$20*150),0)), IF($B$7=\"5.1a - Komplexní řešení energetické náročnosti budovy\", IF($A$9=FALSE,0,IF($A$11=TRUE, IF($C$11=TRUE,$I$20*400,$I$20*150),0)),0)))","v":0}]
[null,null,null,"energeticky vztažná plocha objektu",null,null,null,1,0,"[m2]",{"$f":"IF($B$7=\"5.2 - Budování veřejných budov v pasivním energetickém standardu\",IF($A$10=TRUE,IF($H$21=3, $I$21*2500*1.1,IF($H$21=2, $I$21*2500*1.05,$I$21*2500)),0),0)","v":0}]
[null,null,null,"špičkový instalovaný elektrický výkon fotovoltaického systému",null,null,null,null,0,"[kWe]",{"$f":"IF($B$7=\"5.1a - Komplexní řešení energetické náročnosti budovy\", IF($A$9=FALSE,IF($A$10=TRUE,IF($A$15=TRUE,I22*45000,0),0),IF($A$15=TRUE,I22*45000,0)),0)","v":0}]
[null,null,null,null,null,null,null,null,"Celkem",null,{"$f":"SUM(K10:K22)","v":0}]
["Souhrnný rozpočet"]
["Procentní výše způsob. výdajů na projektovou přípravu, autorský a technický dozor",null,{"$f":"IF(I38>10000000,\"6\",IF(I38>3000000,\"7\",IF(I38>1000000,\"8\",\"10\")))","v":"10"},"Cena bez DPH","procento DPH [%]",null,"Cena včetně DPH","Nezpůsobilá část celkových výdajů stanovená žadatelem (bez DPH)","Způsobilé výdaje po zohlednění limitů způsobilých výdajů a způsobilosti DPH"]
[]
["Realizace","Výdaje na zateplení",null,0,21,null,{"$f":"IF($B$7=\"nezvoleno\",0,IF($B$7=\"5.1a - Komplexní řešení energetické náročnosti budovy\",D27*(1+(E27/100)),0))","v":0},0,{"$f":"IF($B$7=\"nezvoleno\",0,IF($B$7=\"5.1a - Komplexní řešení energetické náročnosti budovy\",IF(List2!$A$22=TRUE,IF((D27-H27)<(K12+K13+K14+K15+K16),(D27-H27),(K12+K13+K14+K15+K16)),IF((D27-H27)<(K12+K13+K14+K15+K16),(D27-H27)*(1+(E27/100)),(K12+K13+K14+K15+K16)*(1+(E27/100)))),0))","v":0}]
[null,"Výdaje na výměnu zdroje (včetně kotelny)",null,0,21,null,{"$f":"IF($B$7=\"nezvoleno\",0,IF($B$7=\"5.2 - Budování veřejných budov v pasivním energetickém standardu\",0,D28*(1+(E28/100))))","v":0},0,{"$f":"IF($B$7=\"nezvoleno\",0,IF($B$7=\"5.2 - Budování veřejných budov v pasivním energetickém standardu\",0,IF($A$10=FALSE,0,IF($H$10=9,IF(List2!$A$22=TRUE,D28-H28,(D28-H28)*(1+(E28/100))),IF(List2!$A$22=TRUE,IF((D28-H28)<K10,(D28-H28),K10),IF((D28-H28)<K10,(D28-H28)*(1+(E28/100)),(K10)*(1+(E28/100))))))))","v":0}]
[null,"Výdaje na vybudování nové otopné soustavy",null,0,21,null,{"$f":"IF($B$7=\"nezvoleno\",0,IF($B$7=\"5.2 - Budování veřejných budov v pasivním energetickém standardu\",0,D29*(1+(E29/100))))","v":0},0,{"$f":"IF($B$7=\"nezvoleno\",0,IF($B$7=\"5.2 - Budování veřejných budov v pasivním energetickém standardu\",0,IF(List2!$A$22=TRUE,IF((D29-H29)<K11,(D29-H29),K11),IF((D29-H29)<K11,(D29-H29)*(1+(E29/100)),(K11)*(1+(E29/100))))))","v":0}]
[null,"Výdaje na instalaci systému využití odpadního tepla",null,0,21,null,{"$f":"IF($B$7=\"nezvoleno\",0,D30*(1+(E30/100)))","v":0},0,{"$f":"IF($B$7=\"nezvoleno\",0,IF(List2!$A$22=TRUE,IF((D30-H30)<K20,(D30-H30),K20),IF((D30-H30)<K20,(D30-H30)*(1+(E30/100)),(K20)*(1+(E30/100)))))","v":0}]
[null,"Výdaje na instalaci solárního termického systému ",null,0,21,null,{"$f":"IF($B$7=\"nezvoleno\",0,IF($B$7=\"5.2 - Budování veřejných budov v pasivním energetickém standardu\",0,D31*(1+(E31/100))))","v":0},0,{"$f":"IF($B$7=\"nezvoleno\",0,IF($B$7=\"5.2 - Budování veřejných budov v pasivním energetickém standardu\",0,IF(List2!$A$22=TRUE,IF((D31-H31)<K18,(D31-H31),K18),IF((D31-H31)<K18,(D31-H31)*(1+(E31/100)),(K18)*(1+(E31/100))))))","v":0}]
[null,"Výdaje na instalaci kogenerační jednotky",null,0,21,null,{"$f":"IF($B$7=\"nezvoleno\",0,IF($B$7=\"5.2 - Budování veřejných budov v pasivním energetickém standardu\",0,D32*(1+(E32/100))))","v":0},0,{"$f":"IF($B$7=\"nezvoleno\",0,IF($B$7=\"5.2 - Budování veřejných budov v pasivním energetickém standardu\",0,IF(List2!$A$22=TRUE,IF((D32-H32)<K19,(D32-H32),K19),IF((D32-H32)<K19,(D32-H32)*(1+(E32/100)),(K19)*(1+(E32/100))))))","v":0}]
[null,"Výdaje na instalaci fotovoltaického systému",null,0,21,null,{"$f":"IF($B$7=\"nezvoleno\",0,IF($B$7=\"5.1a - Komplexní řešení energetické náročnosti budovy\",IF($A$15=TRUE,D33*(1+(E33/100)),0),0))","v":0},0,{"$f":"IF($B$7=\"nezvoleno\",0,IF($B$7=\"5.1a - Komplexní řešení energetické náročnosti budovy\",IF($A$14=TRUE,IF(List2!$A$22=TRUE,IF((D33-H33)<(K22),(D33-H33),(K22)),IF((D33-H33)*(1+(E33/100))<((K22)*(1+(E33/100))),(D33-H33)*(1+(E33/100)),((K22)*(1+(E33/100))))),0),0))","v":0}]
[null,"Výdaje na výstavbu veřejných budov v pasivním energetickém standardu",null,0,21,null,{"$f":"IF($B$7=\"nezvoleno\",0,IF($B$7=\"5.2 - Budování veřejných budov v pasivním energetickém standardu\",IF($A$10=TRUE,D34*(1+(E34/100)),0),0))","v":0},0,{"$f":"IF($B$7=\"nezvoleno\",0,IF($B$7=\"5.2 - Budování veřejných budov v pasivním energetickém standardu\",IF($A$10=TRUE,IF(List2!$A$22=TRUE,(D34-H34),(D34-H34)*(1+(E34/100))),0),0))","v":0}]
[null,"Výdaje na další opatření navržená energetickým auditem",null,0,21,null,{"$f":"IF($B$7=\"nezvoleno\",0,IF($B$7=\"5.1a - Komplexní řešení energetické náročnosti budovy\",IF($A$14=TRUE,D35*(1+(E35/100)),0),0))","v":0},0,{"$f":"IF($B$7=\"nezvoleno\",0,IF($B$7=\"5.2 - Budování veřejných budov v pasivním energetickém standardu\",0,IF(List2!$A$22=TRUE,IF((D35-H35)<K17,(D35-H35),K17),IF((D35-H35)<K17,(D35-H35)*(1+(E35/100)),(K17)*(1+(E35/100))))))","v":0}]
[null,"Dokumentace skutečného provedení",null,0,21,null,{"$f":"IF($B$7=\"nezvoleno\",0,D36*(1+(E36/100)))","v":0},0,{"$f":"IF($B$7=\"nezvoleno\",0,IF(List2!$A$22=TRUE,D36-H36,(D36-H36)*(1+(E36/100))))","v":0}]
[null,"Rezerva",null,0,21,null,{"$f":"IF($B$7=\"nezvoleno\",0,D37*(1+(E37/100)))","v":0},0,{"$f":"0","v":0}]
[null,"Celkem (Přímé realizační výdaje)",null,{"$f":"SUM(D27:D37)","v":0},null,null,{"$f":"SUM(G27:G37)","v":0},{"$f":"SUM(H27:H37)","v":0},{"$f":"SUM(I27:K37)","v":0}]
[null,"Propagace",null,0,21,null,{"$f":"IF($B$7=\"nezvoleno\",0,D39*(1+(E39/100)))","v":0},0,{"$f":"IF($B$7=\"nezvoleno\",0,IF((I38+I48)<5000000,IF(List2!$A$22=TRUE,IF((D39-H39)<2000,(D39-H39),2000),IF((D39-H39)*(1+(E39/100))<2000,(D39-H39)*(1+(E39/100)),2000)),IF((I38+I48)<12500000,IF(List2!$A$22=TRUE,IF((D39-H39)<7000,(D39-H39),7000),IF((D39-H39)*(1+(E39/100))<7000,(D39-H39)*(1+(E39/100)),7000)),IF((I38+I48)<1360000000,IF(List2!$A$22=TRUE,IF((D39-H39)<22000,(D39-H39),22000),IF((D39-H39)*(1+(E39/100))<22000,(D39-H39)*(1+(E39/100)),22000)),IF(List2!$A$22=TRUE,IF((D39-H39)<72000,(D39-H39),72000),IF((D39-H39)*(1+(E39/100))<72000,(D39-H39)*(1+(E39/100)),72000))))))","v":0}]
["Projektová příprava, autorský a technický dozor","Projektová dokumentace / studie",null,0,21,null,0,0,{"$f":"IF($B$7=\"nezvoleno\",0,IF(List2!$A$22=TRUE,IF((D40-H40)>($I$38*($C$25/100)),($I$38*($C$25/100)),(D40-H40)),IF((D40-H40)*(1+(E40/100))>($I$38*($C$25/100)),($I$38*($C$25/100)),(D40-H40)*(1+(E40/100)))))","v":0}]
[null,"Energetický posudek / studie proveditelnosti",null,0,21,null,0,0,{"$f":"IF($B$7=\"nezvoleno\",0,IF(List2!$A$22=TRUE,IF((D41-H41)>(($I$38*($C$25/100))-I40),(($I$38*($C$25/100))-I40),(D41-H41)),IF((D41-H41)*(1+(E41/100))>(($I$38*($C$25/100))-I40),(($I$38*($C$25/100))-I40),(D41-H41)*(1+(E41/100)))))","v":0}]
[null,"Technický dozor",null,0,21,null,0,0,{"$f":"IF(List2!$A$22=TRUE,IF((D42-H42)>(($I$38*($C$25/100))-I40-I41),(($I$38*($C$25/100))-I40-I41),(D42-H42)),IF((D42-H42)*(1+(E42/100))>(($I$38*($C$25/100))-I40-I41),(($I$38*($C$25/100))-I40-I41),(D42-H42)*(1+(E42/100))))","v":0}]
[null,"Autorský dozor",null,0,21,null,0,0,{"$f":"IF($B$7=\"nezvoleno\",0,IF(List2!$A$22=TRUE,IF((D43-H43)>(($I$38*($C$25/100))-I40-I41-I42),(($I$38*($C$25/100))-I40-I41-I42),(D43-H43)),IF((D43-H43)*(1+(E43/100))>(($I$38*($C$25/100))-I40-I41-I42),(($I$38*($C$25/100))-I40-I41-I42),(D43-H43)*(1+(E43/100)))))","v":0}]
[null,"Žádost",null,0,21,null,0,0,{"$f":"IF($B$7=\"nezvoleno\",0,IF(List2!$A$22=TRUE,IF((D44-H44)>30000,IF((($I$38*($C$25/100))-I40-I41-I42-I43)>(30000),(30000),(($I$38*($C$25/100))-I40-I41-I42-I43)),IF((D44-H44)*(1+(E44/100))>(($I$38*($C$25/100))-I40-I41-I42-I43),(($I$38*($C$25/100))-I40-I41-I42-I43),(D44-H44))),IF((D44-H44)>30000,IF((($I$38*($C$25/100))-I40-I41-I42-I43)>(30000*(1+(E44/100))),(30000*(1+(E44/100))),(($I$38*($C$25/100))-I40-I41-I42-I43)),IF((D44-H44)*(1+(E44/100))>(($I$38*($C$25/100))-I40-I41-I42-I43),(($I$38*($C$25/100))-I40-I41-I42-I43),(D44-H44)*(1+(E44/100))))))","v":0}]
[null,"Výběrové řízení",null,0,21,null,0,0,{"$f":"IF($B$7=\"nezvoleno\",0,IF(List2!$A$22=TRUE,IF((D45-H45)>(($I$38*($C$25/100))-I40-I41-I42-I43-I44),(($I$38*($C$25/100))-I40-I41-I42-I43-I44),(D45-H45)),IF((D45-H45)*(1+(E45/100))>(($I$38*($C$25/100))-I40-I41-I42-I43-I44),(($I$38*($C$25/100))-I40-I41-I42-I43-I44),(D45-H45)*(1+(E45/100)))))","v":0}]
[null,"Manažerské řízení přípravy a realizace projektu",null,0,21,null,0,0,{"$f":"IF($B$7=\"nezvoleno\",0,IF(List2!$A$22=TRUE,IF((D46-H46)>(($I$38*($C$25/100))-I40-I41-I42-I43-I44-I45),(($I$38*($C$25/100))-I40-I41-I42-I43-I44-I45),(D46-H46)),IF((D46-H46)*(1+(E46/100))>(($I$38*($C$25/100))-I40-I41-I42-I43-I44-I45),(($I$38*($C$25/100))-I40-I41-I42-I43-I44-I45),(D46-H46)*(1+(E46/100)))))","v":0}]
[null,null,null,0,21,null,0,0,{"$f":"IF($B$7=\"nezvoleno\",0,IF(List2!$A$22=TRUE,IF((D47-H47)>(($I$38*($C$25/100))-I40-I41-I42-I43-I44-I45-I46),(($I$38*($C$25/100))-I40-I41-I42-I43-I44-I45-I46),(D47-H47)),IF((D47-H47)*(1+(E47/100))>(($I$38*($C$25/100))-I40-I41-I42-I43-I44-I45-I46),(($I$38*($C$25/100))-I40-I41-I42-I43-I44-I45-I46),(D47-H47)*(1+(E47/100)))))","v":0}]
[null,"Celkem ",null,{"$f":"SUM(D40:D47)","v":0},null,null,{"$f":"SUM(G40:G47)","v":0},{"$f":"SUM(H40:H47)","v":0},{"$f":"SUM(I40:K47)","v":0}]
[null,null,"Celkem",{"$f":"D48+D39+D38","v":0},null,null,{"$f":"G48+G39+G38","v":0},{"$f":"H48+H39+H38","v":0},{"$f":"I38+I39+I48","v":0}]
[]
["Celkové výdaje projektu (včetně DPH)",null,{"$f":"G49","v":0},null,"Komentář k nezpůsobilým výdajům stanoveným žadatelem:"]
["Celkové způsobilé výdaje projektu",null,{"$f":"I49","v":0}]
["Celkové nezpůsobilé výdaje projektu",null,{"$f":"C51-C52","v":0}]
["Celkové způsobilé inv. (realizační) náklady (bez DPH)",null,{"$f":"IF(List2!$A$22=FALSE,I27/(1+(E27/100)),I27)+IF(List2!$A$22=FALSE,I28/(1+(E28/100)),I28)+IF(List2!$A$22=FALSE,I29/(1+(E29/100)),I29)+IF(List2!$A$22=FALSE,I30/(1+(E30/100)),I30)+IF(List2!$A$22=FALSE,I31/(1+(E31/100)),I31)+IF(List2!$A$22=FALSE,I32/(1+(E32/100)),I32)+IF(List2!$A$22=FALSE,I33/(1+(E33/100)),I33)+IF(List2!$A$22=FALSE,I34/(1+(E34/100)),I34)+IF(List2!$A$22=FALSE,I35/(1+(E35/100)),I35)+IF(List2!$A$22=FALSE,I36/(1+(E36/100)),I36)","v":0}]
["Celkové způsobilé přímé realizační výdaje",null,{"$f":"$I$38","v":0}]

{"sheet":"List2","index":1,"n_rows":22,"n_cols":1,"rows_kept":22,"cut":false,"hidden":true,"merged":[]}
["nezvoleno"]
["5.1a - Komplexní řešení energetické náročnosti budovy"]
["5.1b - Jednotlivá opatření snižující energetickou náročnost budovy"]
["5.2 - Budování veřejných budov v pasivním energetickém standardu"]
[]
["Kotel na biomasu"]
["Kondenzační kotel na zemní plyn"]
["Elektrické tepelné čerpadlo vzduch/voda"]
["Elektrické tepelné čerpadlo země/voda"]
["Elektrické tepelné čerpadlo voda/voda"]
["Plynové tepelné čerpadlo vzduch/voda"]
["Plynové tepelné čerpadlo země/voda"]
["Plynové tepelné čerpadlo voda/voda"]
["Systém využívající odpadní teplo"]
["Plochý kolektor"]
["Trubicový vakuový kolektor"]
["bez bonifikace"]
["bonifikace 5 %"]
["bonifikace 10 %"]
[]
[]
[false]